BEGIN:VCALENDAR
VERSION:2.0
PRODID:-//Department Of Education//e2a2734b-e478-433a-a9f6-4ccb3b9e4802
BEGIN:VTIMEZONE
TZID:Australia/Sydney
TZURL:http://tzurl.org/zoneinfo-outlook/Australia/Sydney
X-LIC-LOCATION:Australia/Sydney
BEGIN:STANDARD
TZOFFSETFROM:+1100
TZOFFSETTO:+1000
TZNAME:AEST
DTSTART:19700405T030000
RRULE:FREQ=YEARLY;BYMONTH=4;BYDAY=1SU
END:STANDARD
BEGIN:DAYLIGHT
TZOFFSETFROM:+1000
TZOFFSETTO:+1100
TZNAME:AEDT
DTSTART:19701004T020000
RRULE:FREQ=YEARLY;BYMONTH=10;BYDAY=1SU
END:DAYLIGHT
END:VTIMEZONE
CALSCALE:GREGORIAN
X-WR-TIMEZONE:Australia/Sydney
BEGIN:VEVENT
DTSTART;TZID=Australia/Sydney:20200418T110026
DTEND;TZID=Australia/Sydney:20200418T200038
DTSTAMP:20200418T000000Z
UID:9c3e6569-41dc-4f54-bbcc-b225d785e592
LOCATION:Shoalhaven Heads Bowling Club
SUMMARY;LANGUAGE=en-us:Shoalhaven Heads Ukulele Festival
SEQUENCE:0
DESCRIPTION:Our SHUCKS performing at the Shoalhaven Heads Ukulele Festival!
END:VEVENT
TRANSP:TRANSPARENT
END:VCALENDAR
